Package: ggkegg Version: 1.5.1 Command: /Library/Frameworks/R.framework/Resources/bin/R CMD build --keep-empty-dirs --no-resave-data ggkegg StartedAt: 2025-02-19 16:28:57 -0500 (Wed, 19 Feb 2025) EndedAt: 2025-02-19 16:29:23 -0500 (Wed, 19 Feb 2025) EllapsedTime: 26.3 seconds RetCode: 0 Status: OK PackageFile: ggkegg_1.5.1.tar.gz PackageFileSize: 3.464 MiB