Package: ggbio Version: 1.57.1 Command: rm -rf ggbio.buildbin-libdir && mkdir ggbio.buildbin-libdir && F:\biocbuild\bbs-3.22-bioc\R\bin\R.exe CMD INSTALL --build --library=ggbio.buildbin-libdir ggbio_1.57.1.tar.gz StartedAt: 2025-08-15 10:23:03 -0400 (Fri, 15 Aug 2025) EndedAt: 2025-08-15 10:25:46 -0400 (Fri, 15 Aug 2025) EllapsedTime: 163.1 seconds RetCode: 0 Status: OK PackageFile: ggbio_1.57.1.zip PackageFileSize: 3.28 MiB