Package: ggbio Version: 1.55.0 Command: E:\biocbuild\bbs-3.21-bioc\R\bin\R.exe CMD INSTALL ggbio StartedAt: 2025-02-17 16:37:07 -0500 (Mon, 17 Feb 2025) EndedAt: 2025-02-17 16:38:57 -0500 (Mon, 17 Feb 2025) EllapsedTime: 109.8 seconds RetCode: 0 Status: OK