Package: ggbio Version: 1.55.0 Command: /Library/Frameworks/R.framework/Resources/bin/R CMD build --keep-empty-dirs --no-resave-data ggbio StartedAt: 2025-02-18 16:48:35 -0500 (Tue, 18 Feb 2025) EndedAt: 2025-02-18 16:53:40 -0500 (Tue, 18 Feb 2025) EllapsedTime: 304.8 seconds RetCode: 0 Status: OK PackageFile: ggbio_1.55.0.tar.gz PackageFileSize: 3.096 MiB