Package: ggbio Version: 1.57.0 Command: /Library/Frameworks/R.framework/Resources/bin/R CMD check --install=check:ggbio.install-out.txt --library=/Library/Frameworks/R.framework/Resources/library --no-vignettes --timings ggbio_1.57.0.tar.gz StartedAt: 2025-05-06 19:50:26 -0400 (Tue, 06 May 2025) EndedAt: 2025-05-06 19:54:34 -0400 (Tue, 06 May 2025) EllapsedTime: 248.1 seconds RetCode: 0 Status: WARNINGS CheckDir: ggbio.Rcheck Warnings: 2