Package: ggbio Version: 1.57.0 Command: /Library/Frameworks/R.framework/Resources/bin/R CMD build --keep-empty-dirs --no-resave-data ggbio StartedAt: 2025-05-06 16:28:54 -0400 (Tue, 06 May 2025) EndedAt: 2025-05-06 16:30:49 -0400 (Tue, 06 May 2025) EllapsedTime: 115.3 seconds RetCode: 0 Status: OK PackageFile: ggbio_1.57.0.tar.gz PackageFileSize: 3.095 MiB