Package: gg4way Version: 1.7.1 Command: /home/biocbuild/bbs-3.22-bioc/R/bin/R CMD INSTALL gg4way StartedAt: 2025-10-17 15:22:01 -0400 (Fri, 17 Oct 2025) EndedAt: 2025-10-17 15:22:28 -0400 (Fri, 17 Oct 2025) EllapsedTime: 27.2 seconds RetCode: 0 Status: OK