Package: gg4way Version: 1.5.0 Command: /home/biocbuild/R/R/bin/R CMD build --keep-empty-dirs --no-resave-data gg4way StartedAt: 2025-01-28 23:11:56 -0000 (Tue, 28 Jan 2025) EndedAt: 2025-01-28 23:13:56 -0000 (Tue, 28 Jan 2025) EllapsedTime: 120.0 seconds RetCode: 0 Status: OK PackageFile: gg4way_1.5.0.tar.gz PackageFileSize: 2.592 MiB