Package: gg4way Version: 1.5.0 Command: /Library/Frameworks/R.framework/Resources/bin/R CMD build --keep-empty-dirs --no-resave-data gg4way StartedAt: 2025-02-03 17:04:00 -0500 (Mon, 03 Feb 2025) EndedAt: 2025-02-03 17:04:32 -0500 (Mon, 03 Feb 2025) EllapsedTime: 32.4 seconds RetCode: 0 Status: OK PackageFile: gg4way_1.5.0.tar.gz PackageFileSize: 2.992 MiB