Package: geyser Version: 1.1.0 Command: /home/biocbuild/bbs-3.22-bioc/R/bin/R CMD build --keep-empty-dirs --no-resave-data --md5 geyser StartedAt: 2025-10-09 17:54:23 -0400 (Thu, 09 Oct 2025) EndedAt: 2025-10-09 17:55:02 -0400 (Thu, 09 Oct 2025) EllapsedTime: 39.0 seconds RetCode: 0 Status: OK PackageFile: geyser_1.1.0.tar.gz PackageFileSize: 2.28 MiB