Package: geyser Version: 0.99.8 Command: /home/biocbuild/bbs-3.21-bioc/R/bin/R CMD check --install=check:geyser.install-out.txt --library=/home/biocbuild/bbs-3.21-bioc/R/site-library --timings geyser_0.99.8.tar.gz StartedAt: 2025-02-04 22:42:56 -0500 (Tue, 04 Feb 2025) EndedAt: 2025-02-04 22:46:06 -0500 (Tue, 04 Feb 2025) EllapsedTime: 189.2 seconds RetCode: 0 Status: OK CheckDir: geyser.Rcheck Warnings: 0