Package: geyser Version: 1.1.0 Command: rm -rf geyser.buildbin-libdir && mkdir geyser.buildbin-libdir && /Users/biocbuild/BBS/utils/build-universal.sh geyser_1.1.0.tar.gz /Library/Frameworks/R.framework/Resources/bin/R geyser.buildbin-libdir StartedAt: 2025-10-08 02:19:57 -0400 (Wed, 08 Oct 2025) EndedAt: 2025-10-08 02:20:35 -0400 (Wed, 08 Oct 2025) EllapsedTime: 38.3 seconds RetCode: 0 Status: OK PackageFile: geyser_1.1.0.tgz PackageFileSize: 1.323 MiB