Package: geyser Version: 0.99.8 Maintainer: David McGaughey MaintainerEmail: mcgaughey at gmail.com git_url: https://git.bioconductor.org/packages/geyser git_branch: devel git_last_commit: 437a52d git_last_commit_date: 2025-01-14 13:24:10 -0500 (Tue, 14 Jan 2025)