Package: geva Version: 1.17.0 Command: /home/biocbuild/bbs-3.22-bioc/R/bin/R CMD INSTALL geva StartedAt: 2025-10-15 15:06:33 -0400 (Wed, 15 Oct 2025) EndedAt: 2025-10-15 15:07:06 -0400 (Wed, 15 Oct 2025) EllapsedTime: 33.5 seconds RetCode: 0 Status: OK