Package: getDEE2 Version: 1.19.3 Command: rm -rf getDEE2.buildbin-libdir && mkdir getDEE2.buildbin-libdir && F:\biocbuild\bbs-3.22-bioc\R\bin\R.exe CMD INSTALL --build --library=getDEE2.buildbin-libdir getDEE2_1.19.3.tar.gz StartedAt: 2025-08-15 10:22:45 -0400 (Fri, 15 Aug 2025) EndedAt: 2025-08-15 10:23:10 -0400 (Fri, 15 Aug 2025) EllapsedTime: 25.0 seconds RetCode: 0 Status: OK PackageFile: getDEE2_1.19.3.zip PackageFileSize: 79.28 KiB