Package: gep2pep Version: 1.29.0 Command: /home/biocbuild/bbs-3.22-bioc/R/bin/R CMD INSTALL gep2pep StartedAt: 2025-09-29 15:57:59 -0400 (Mon, 29 Sep 2025) EndedAt: 2025-09-29 15:58:21 -0400 (Mon, 29 Sep 2025) EllapsedTime: 21.9 seconds RetCode: 0 Status: OK