Package: geomeTriD Version: 1.1.8 Command: /Library/Frameworks/R.framework/Resources/bin/R CMD INSTALL geomeTriD StartedAt: 2025-02-02 15:29:33 -0500 (Sun, 02 Feb 2025) EndedAt: 2025-02-02 15:30:42 -0500 (Sun, 02 Feb 2025) EllapsedTime: 68.8 seconds RetCode: 0 Status: OK