Package: geomeTriD Version: 1.1.8 Command: /Library/Frameworks/R.framework/Resources/bin/R CMD check --install=check:geomeTriD.install-out.txt --library=/Library/Frameworks/R.framework/Resources/library --no-vignettes --timings geomeTriD_1.1.8.tar.gz StartedAt: 2025-02-05 20:44:23 -0500 (Wed, 05 Feb 2025) EndedAt: 2025-02-05 20:51:17 -0500 (Wed, 05 Feb 2025) EllapsedTime: 414.3 seconds RetCode: 0 Status: OK CheckDir: geomeTriD.Rcheck Warnings: 0