Package: geomeTriD Version: 1.3.17 Command: rm -rf geomeTriD.buildbin-libdir && mkdir geomeTriD.buildbin-libdir && /Users/biocbuild/BBS/utils/build-universal.sh geomeTriD_1.3.17.tar.gz /Library/Frameworks/R.framework/Resources/bin/R geomeTriD.buildbin-libdir StartedAt: 2025-10-02 01:52:27 -0400 (Thu, 02 Oct 2025) EndedAt: 2025-10-02 01:53:48 -0400 (Thu, 02 Oct 2025) EllapsedTime: 81.4 seconds RetCode: 0 Status: OK PackageFile: geomeTriD_1.3.17.tgz PackageFileSize: 1.644 MiB