Package: geomeTriD Version: 1.1.8 Command: /home/biocbuild/R/R/bin/R CMD check --install=check:geomeTriD.install-out.txt --library=/home/biocbuild/R/R/site-library --no-vignettes --timings geomeTriD_1.1.8.tar.gz StartedAt: 2025-01-28 11:01:37 -0000 (Tue, 28 Jan 2025) EndedAt: 2025-01-28 11:10:27 -0000 (Tue, 28 Jan 2025) EllapsedTime: 530.4 seconds RetCode: 0 Status: WARNINGS CheckDir: geomeTriD.Rcheck Warnings: 5