Package: genomicInstability Version: 1.15.0 Command: /home/biocbuild/bbs-3.22-bioc/R/bin/R CMD INSTALL genomicInstability StartedAt: 2025-09-30 15:30:22 -0400 (Tue, 30 Sep 2025) EndedAt: 2025-09-30 15:30:47 -0400 (Tue, 30 Sep 2025) EllapsedTime: 24.8 seconds RetCode: 0 Status: OK