Package: genomicInstability Version: 1.15.0 Command: /home/biocbuild/bbs-3.22-bioc/R/bin/R CMD build --keep-empty-dirs --no-resave-data --md5 genomicInstability StartedAt: 2025-09-30 17:46:27 -0400 (Tue, 30 Sep 2025) EndedAt: 2025-09-30 17:48:15 -0400 (Tue, 30 Sep 2025) EllapsedTime: 108.1 seconds RetCode: 0 Status: OK PackageFile: genomicInstability_1.15.0.tar.gz PackageFileSize: 1.223 MiB