Package: genomicInstability Version: 1.15.0 Command: /Library/Frameworks/R.framework/Resources/bin/R CMD build --keep-empty-dirs --no-resave-data genomicInstability StartedAt: 2025-05-26 17:13:06 -0400 (Mon, 26 May 2025) EndedAt: 2025-05-26 17:15:07 -0400 (Mon, 26 May 2025) EllapsedTime: 120.8 seconds RetCode: 0 Status: OK PackageFile: genomicInstability_1.15.0.tar.gz PackageFileSize: 1.211 MiB