Package: genomicInstability Version: 1.15.0 Command: rm -rf genomicInstability.buildbin-libdir && mkdir genomicInstability.buildbin-libdir && /Users/biocbuild/BBS/utils/build-universal.sh genomicInstability_1.15.0.tar.gz /Library/Frameworks/R.framework/Resources/bin/R genomicInstability.buildbin-libdir StartedAt: 2025-05-27 01:03:06 -0400 (Tue, 27 May 2025) EndedAt: 2025-05-27 01:03:44 -0400 (Tue, 27 May 2025) EllapsedTime: 37.7 seconds RetCode: 0 Status: OK PackageFile: genomicInstability_1.15.0.tgz PackageFileSize: 1.267 MiB