Package: genomes Version: 3.39.0 Command: /home/biocbuild/R/R/bin/R CMD build --keep-empty-dirs --no-resave-data genomes StartedAt: 2025-10-03 00:09:28 -0000 (Fri, 03 Oct 2025) EndedAt: 2025-10-03 00:09:35 -0000 (Fri, 03 Oct 2025) EllapsedTime: 7.0 seconds RetCode: 0 Status: OK PackageFile: genomes_3.39.0.tar.gz PackageFileSize: 95.43 KiB