Package: genomes Version: 3.37.0 Command: chmod a+r genomes -R && E:\biocbuild\bbs-3.21-bioc\R\bin\R.exe CMD build --keep-empty-dirs --no-resave-data genomes StartedAt: 2025-02-03 19:05:14 -0500 (Mon, 03 Feb 2025) EndedAt: 2025-02-03 19:05:26 -0500 (Mon, 03 Feb 2025) EllapsedTime: 11.9 seconds RetCode: 0 Status: OK PackageFile: genomes_3.37.0.tar.gz PackageFileSize: 35.83 KiB