Package: genomes Version: 3.37.0 Command: rm -rf genomes.buildbin-libdir && mkdir genomes.buildbin-libdir && E:\biocbuild\bbs-3.21-bioc\R\bin\R.exe CMD INSTALL --build --library=genomes.buildbin-libdir genomes_3.37.0.tar.gz StartedAt: 2025-02-04 08:02:29 -0500 (Tue, 04 Feb 2025) EndedAt: 2025-02-04 08:02:38 -0500 (Tue, 04 Feb 2025) EllapsedTime: 9.1 seconds RetCode: 0 Status: OK PackageFile: genomes_3.37.0.zip PackageFileSize: 49.97 KiB