Package: genomes Version: 3.37.0 Command: /Library/Frameworks/R.framework/Resources/bin/R CMD check --install=check:genomes.install-out.txt --library=/Library/Frameworks/R.framework/Resources/library --no-vignettes --timings genomes_3.37.0.tar.gz StartedAt: 2025-02-05 20:41:20 -0500 (Wed, 05 Feb 2025) EndedAt: 2025-02-05 20:41:53 -0500 (Wed, 05 Feb 2025) EllapsedTime: 33.4 seconds RetCode: 0 Status: OK CheckDir: genomes.Rcheck Warnings: 0