Package: genomes Version: 3.37.0 Command: /Library/Frameworks/R.framework/Resources/bin/R CMD build --keep-empty-dirs --no-resave-data genomes StartedAt: 2025-02-05 16:47:51 -0500 (Wed, 05 Feb 2025) EndedAt: 2025-02-05 16:48:01 -0500 (Wed, 05 Feb 2025) EllapsedTime: 10.3 seconds RetCode: 0 Status: OK PackageFile: genomes_3.37.0.tar.gz PackageFileSize: 98.45 KiB