Package: genomes Version: 3.37.0 Command: /Library/Frameworks/R.framework/Resources/bin/R CMD INSTALL genomes StartedAt: 2025-02-03 15:37:47 -0500 (Mon, 03 Feb 2025) EndedAt: 2025-02-03 15:37:50 -0500 (Mon, 03 Feb 2025) EllapsedTime: 2.8 seconds RetCode: 0 Status: OK