Package: genomes Version: 3.39.0 Maintainer: Chris Stubben MaintainerEmail: stubben at lanl.gov git_url: https://git.bioconductor.org/packages/genomes git_branch: devel git_last_commit: 52cdcc6 git_last_commit_date: 2025-04-15 09:59:44 -0400 (Tue, 15 Apr 2025)