Package: genomeIntervals Version: 1.65.1 Command: /home/biocbuild/bbs-3.22-bioc/R/bin/R CMD INSTALL genomeIntervals StartedAt: 2025-10-16 16:19:40 -0400 (Thu, 16 Oct 2025) EndedAt: 2025-10-16 16:19:53 -0400 (Thu, 16 Oct 2025) EllapsedTime: 13.4 seconds RetCode: 0 Status: OK