Package: genomation Version: 1.39.0 Command: E:\biocbuild\bbs-3.21-bioc\R\bin\R.exe CMD INSTALL genomation StartedAt: 2025-02-03 16:45:46 -0500 (Mon, 03 Feb 2025) EndedAt: 2025-02-03 16:47:17 -0500 (Mon, 03 Feb 2025) EllapsedTime: 90.9 seconds RetCode: 0 Status: OK