Package: genomation Version: 1.39.0 Command: E:\biocbuild\bbs-3.21-bioc\R\bin\R.exe CMD check --no-multiarch --install=check:genomation.install-out.txt --library=E:\biocbuild\bbs-3.21-bioc\R\library --no-vignettes --timings genomation_1.39.0.tar.gz StartedAt: 2025-02-04 01:52:01 -0500 (Tue, 04 Feb 2025) EndedAt: 2025-02-04 01:58:11 -0500 (Tue, 04 Feb 2025) EllapsedTime: 370.2 seconds RetCode: 0 Status: WARNINGS CheckDir: genomation.Rcheck Warnings: 1