Package: genomation Version: 1.39.0 Command: chmod a+r genomation -R && E:\biocbuild\bbs-3.21-bioc\R\bin\R.exe CMD build --keep-empty-dirs --no-resave-data genomation StartedAt: 2025-02-03 19:05:01 -0500 (Mon, 03 Feb 2025) EndedAt: 2025-02-03 19:06:58 -0500 (Mon, 03 Feb 2025) EllapsedTime: 116.3 seconds RetCode: 0 Status: OK PackageFile: genomation_1.39.0.tar.gz PackageFileSize: 6.005 MiB