Package: genoCN Version: 1.59.0 Command: /home/biocbuild/R/R/bin/R CMD build --keep-empty-dirs --no-resave-data genoCN StartedAt: 2025-01-28 23:05:56 -0000 (Tue, 28 Jan 2025) EndedAt: 2025-01-28 23:05:58 -0000 (Tue, 28 Jan 2025) EllapsedTime: 2.0 seconds RetCode: 1 Status: ERROR PackageFile: None PackageFileSize: NA