Package: genoCN Version: 1.59.0 Command: /Library/Frameworks/R.framework/Resources/bin/R CMD INSTALL genoCN StartedAt: 2025-02-16 15:07:16 -0500 (Sun, 16 Feb 2025) EndedAt: 2025-02-16 15:07:17 -0500 (Sun, 16 Feb 2025) EllapsedTime: 1.1 seconds RetCode: 1 Status: ERROR