Package: geneplotter Version: 1.87.0 Command: chmod a+r geneplotter -R && F:\biocbuild\bbs-3.22-bioc\R\bin\R.exe CMD build --keep-empty-dirs --no-resave-data geneplotter StartedAt: 2025-08-14 20:24:10 -0400 (Thu, 14 Aug 2025) EndedAt: 2025-08-14 20:24:53 -0400 (Thu, 14 Aug 2025) EllapsedTime: 43.3 seconds RetCode: 0 Status: OK PackageFile: geneplotter_1.87.0.tar.gz PackageFileSize: 1.462 MiB