Package: geneplotter Version: 1.87.0 Command: rm -rf geneplotter.buildbin-libdir && mkdir geneplotter.buildbin-libdir && F:\biocbuild\bbs-3.22-bioc\R\bin\R.exe CMD INSTALL --build --library=geneplotter.buildbin-libdir geneplotter_1.87.0.tar.gz StartedAt: 2025-08-15 10:20:07 -0400 (Fri, 15 Aug 2025) EndedAt: 2025-08-15 10:20:36 -0400 (Fri, 15 Aug 2025) EllapsedTime: 28.9 seconds RetCode: 0 Status: OK PackageFile: geneplotter_1.87.0.zip PackageFileSize: 1.579 MiB