Package: geneplotter Version: 1.87.0 Command: /home/biocbuild/bbs-3.22-bioc/R/bin/R CMD INSTALL geneplotter StartedAt: 2025-09-29 15:30:58 -0400 (Mon, 29 Sep 2025) EndedAt: 2025-09-29 15:31:16 -0400 (Mon, 29 Sep 2025) EllapsedTime: 18.3 seconds RetCode: 0 Status: OK