Package: geneplast Version: 1.33.0 Command: /home/biocbuild/R/R/bin/R CMD build --keep-empty-dirs --no-resave-data geneplast StartedAt: 2025-01-28 23:04:26 -0000 (Tue, 28 Jan 2025) EndedAt: 2025-01-28 23:05:10 -0000 (Tue, 28 Jan 2025) EllapsedTime: 44.0 seconds RetCode: 0 Status: OK PackageFile: geneplast_1.33.0.tar.gz PackageFileSize: 7.121 MiB