Package: genefu Version: 2.41.0 Command: chmod a+r genefu -R && F:\biocbuild\bbs-3.22-bioc\R\bin\R.exe CMD build --keep-empty-dirs --no-resave-data genefu StartedAt: 2025-08-14 20:23:34 -0400 (Thu, 14 Aug 2025) EndedAt: 2025-08-14 20:25:28 -0400 (Thu, 14 Aug 2025) EllapsedTime: 113.8 seconds RetCode: 0 Status: OK PackageFile: genefu_2.41.0.tar.gz PackageFileSize: 4.637 MiB