Package: genefu Version: 2.41.0 Command: /home/biocbuild/bbs-3.22-bioc/R/bin/R CMD INSTALL genefu StartedAt: 2025-10-17 15:38:04 -0400 (Fri, 17 Oct 2025) EndedAt: 2025-10-17 15:38:26 -0400 (Fri, 17 Oct 2025) EllapsedTime: 22.0 seconds RetCode: 0 Status: OK