Package: genefu Version: 2.41.0 Command: /home/biocbuild/bbs-3.22-bioc/R/bin/R CMD build --keep-empty-dirs --no-resave-data --md5 genefu StartedAt: 2025-10-17 17:42:32 -0400 (Fri, 17 Oct 2025) EndedAt: 2025-10-17 17:43:43 -0400 (Fri, 17 Oct 2025) EllapsedTime: 71.1 seconds RetCode: 0 Status: OK PackageFile: genefu_2.41.0.tar.gz PackageFileSize: 4.907 MiB