Package: geneRxCluster Version: 1.45.0 Command: chmod a+r geneRxCluster -R && F:\biocbuild\bbs-3.22-bioc\R\bin\R.exe CMD build --keep-empty-dirs --no-resave-data geneRxCluster StartedAt: 2025-08-14 20:24:34 -0400 (Thu, 14 Aug 2025) EndedAt: 2025-08-14 20:25:29 -0400 (Thu, 14 Aug 2025) EllapsedTime: 55.0 seconds RetCode: 0 Status: OK PackageFile: geneRxCluster_1.45.0.tar.gz PackageFileSize: 142.8 KiB