Package: geneClassifiers Version: 1.33.0 Command: chmod a+r geneClassifiers -R && F:\biocbuild\bbs-3.22-bioc\R\bin\R.exe CMD build --keep-empty-dirs --no-resave-data geneClassifiers StartedAt: 2025-08-14 20:23:20 -0400 (Thu, 14 Aug 2025) EndedAt: 2025-08-14 20:23:57 -0400 (Thu, 14 Aug 2025) EllapsedTime: 36.4 seconds RetCode: 0 Status: OK PackageFile: geneClassifiers_1.33.0.tar.gz PackageFileSize: 1.701 MiB