Package: geneClassifiers Version: 1.31.0 Command: chmod a+r geneClassifiers -R && E:\biocbuild\bbs-3.21-bioc\R\bin\R.exe CMD build --keep-empty-dirs --no-resave-data geneClassifiers StartedAt: 2025-02-14 18:51:14 -0500 (Fri, 14 Feb 2025) EndedAt: 2025-02-14 18:51:52 -0500 (Fri, 14 Feb 2025) EllapsedTime: 38.7 seconds RetCode: 0 Status: OK PackageFile: geneClassifiers_1.31.0.tar.gz PackageFileSize: 1.701 MiB