Package: geneClassifiers Version: 1.33.0 Command: /home/biocbuild/bbs-3.22-bioc/R/bin/R CMD INSTALL geneClassifiers StartedAt: 2025-10-07 15:11:27 -0400 (Tue, 07 Oct 2025) EndedAt: 2025-10-07 15:11:33 -0400 (Tue, 07 Oct 2025) EllapsedTime: 5.5 seconds RetCode: 0 Status: OK