Package: geneClassifiers Version: 1.33.0 Command: /home/biocbuild/bbs-3.22-bioc/R/bin/R CMD build --keep-empty-dirs --no-resave-data --md5 geneClassifiers StartedAt: 2025-10-07 17:47:13 -0400 (Tue, 07 Oct 2025) EndedAt: 2025-10-07 17:47:25 -0400 (Tue, 07 Oct 2025) EllapsedTime: 12.0 seconds RetCode: 0 Status: OK PackageFile: geneClassifiers_1.33.0.tar.gz PackageFileSize: 1.849 MiB