Package: geneAttribution Version: 1.36.0 Command: rm -rf geneAttribution.buildbin-libdir && mkdir geneAttribution.buildbin-libdir && /Users/biocbuild/BBS/utils/build-universal.sh geneAttribution_1.36.0.tar.gz /Library/Frameworks/R.framework/Resources/bin/R geneAttribution.buildbin-libdir StartedAt: 2025-10-30 08:17:18 -0400 (Thu, 30 Oct 2025) EndedAt: 2025-10-30 08:18:03 -0400 (Thu, 30 Oct 2025) EllapsedTime: 45.0 seconds RetCode: 0 Status: OK PackageFile: geneAttribution_1.36.0.tgz PackageFileSize: 64.38 KiB